BEGIN:VCALENDAR
VERSION:2.0
PRODID:-//Whitehorse Chevaliers Fencing Club - ECPv4.9.14//NONSGML v1.0//EN
CALSCALE:GREGORIAN
METHOD:PUBLISH
X-WR-CALNAME:Whitehorse Chevaliers Fencing Club
X-ORIGINAL-URL:http://whitehorsechevaliers.org.au
X-WR-CALDESC:Events for Whitehorse Chevaliers Fencing Club
BEGIN:VTIMEZONE
TZID:UTC
BEGIN:STANDARD
TZOFFSETFROM:+0000
TZOFFSETTO:+0000
TZNAME:UTC
DTSTART:20200101T000000
END:STANDARD
END:VTIMEZONE
BEGIN:VEVENT
DTSTART;TZID=UTC:20200201T090000
DTEND;TZID=UTC:20200201T130000
DTSTAMP:20200227T171817
CREATED:20200116T042915Z
LAST-MODIFIED:20200116T042915Z
UID:2405-1580547600-1580562000@whitehorsechevaliers.org.au
SUMMARY:Term 1 Begins
DESCRIPTION:Welcome to Term 1 classes for 2020! \n9am – Doors Open for set-up and lessons. \n9:30 – U13 Sabre Squad  & Beginners aged 10-16 \n10am – Epee Squad \n10:30 – Sabre Squad \n
URL:http://whitehorsechevaliers.org.au/event/term-1-begins/
CATEGORIES:Club training,Key dates
END:VEVENT
BEGIN:VEVENT
DTSTART;TZID=UTC:20200204T170000
DTEND;TZID=UTC:20200204T180000
DTSTAMP:20200227T171817
CREATED:20200202T002750Z
LAST-MODIFIED:20200202T002750Z
UID:2496-1580835600-1580839200@whitehorsechevaliers.org.au
SUMMARY:U9 Swordplay
DESCRIPTION:New time for our Tuesday swordplay class\, 5pm-6pm\, in the room at the top of the stairs (above our usual spot in Durkin Hall). \nGames based learning for young fencers\, the focus is on fun and basic skill development.\nFor sufficiently mature participants\, there are two U9 competitions later in the year that they can aim for. \n
URL:http://whitehorsechevaliers.org.au/event/u9-swordplay/
LOCATION:Mitcham\, 494 Whitehorse Road\, Mitcham\, Victoria\, 3132\, Australia
END:VEVENT
BEGIN:VEVENT
DTSTART;TZID=UTC:20200222T110000
DTEND;TZID=UTC:20200222T123000
DTSTAMP:20200227T171817
CREATED:20200116T043206Z
LAST-MODIFIED:20200216T035034Z
UID:2409-1582369200-1582374600@whitehorsechevaliers.org.au
SUMMARY:Referee Training
DESCRIPTION:A club workshop to help you improve your refereeing!  Tim will provide a refereeing primer and answer all your refereeing questions. \n
URL:http://whitehorsechevaliers.org.au/event/referee-training/
LOCATION:Nunawading Community Centre\, 16-20 Silver Grove\, Nunawading\, Victoria\, 3131\, Australia
CATEGORIES:Club event,Club training
END:VEVENT
BEGIN:VEVENT
DTSTART;TZID=UTC:20200223T080000
DTEND;TZID=UTC:20200223T170000
DTSTAMP:20200227T171817
CREATED:20200116T043034Z
LAST-MODIFIED:20200116T055702Z
UID:2407-1582444800-1582477200@whitehorsechevaliers.org.au
SUMMARY:FV Novice & B-grade Competition
DESCRIPTION:
URL:http://whitehorsechevaliers.org.au/event/fv-novice-b-grade-competition/
LOCATION:Fencing Victoria\, 204-206 Arden Street\, North Melbourne\, Victoria\, 3051\, Australia
CATEGORIES:State competition
END:VEVENT
END:VCALENDAR